BEGIN:VCALENDAR
VERSION:2.0
PRODID:-//Fanfare St. Caecilia - ECPv6.15.17.1//NONSGML v1.0//EN
CALSCALE:GREGORIAN
METHOD:PUBLISH
X-WR-CALNAME:Fanfare St. Caecilia
X-ORIGINAL-URL:https://www.caeciliahulsberg.nl
X-WR-CALDESC:Evenementen voor Fanfare St. Caecilia
REFRESH-INTERVAL;VALUE=DURATION:PT1H
X-Robots-Tag:noindex
X-PUBLISHED-TTL:PT1H
BEGIN:VTIMEZONE
TZID:Europe/Amsterdam
BEGIN:DAYLIGHT
TZOFFSETFROM:+0100
TZOFFSETTO:+0200
TZNAME:CEST
DTSTART:20250330T010000
END:DAYLIGHT
BEGIN:STANDARD
TZOFFSETFROM:+0200
TZOFFSETTO:+0100
TZNAME:CET
DTSTART:20251026T010000
END:STANDARD
BEGIN:DAYLIGHT
TZOFFSETFROM:+0100
TZOFFSETTO:+0200
TZNAME:CEST
DTSTART:20260329T010000
END:DAYLIGHT
BEGIN:STANDARD
TZOFFSETFROM:+0200
TZOFFSETTO:+0100
TZNAME:CET
DTSTART:20261025T010000
END:STANDARD
BEGIN:DAYLIGHT
TZOFFSETFROM:+0100
TZOFFSETTO:+0200
TZNAME:CEST
DTSTART:20270328T010000
END:DAYLIGHT
BEGIN:STANDARD
TZOFFSETFROM:+0200
TZOFFSETTO:+0100
TZNAME:CET
DTSTART:20271031T010000
END:STANDARD
END:VTIMEZONE
BEGIN:VEVENT
DTSTART;TZID=Europe/Amsterdam:20261203T193000
DTEND;TZID=Europe/Amsterdam:20261203T220000
DTSTAMP:20260420T015757
CREATED:20251021T165316Z
LAST-MODIFIED:20251021T165316Z
UID:1995-1796326200-1796335200@www.caeciliahulsberg.nl
SUMMARY:Sinterklaas op de Repetitie
DESCRIPTION:
URL:https://www.caeciliahulsberg.nl/activiteit/sinterklaas-op-de-repetitie-2/
END:VEVENT
BEGIN:VEVENT
DTSTART;TZID=Europe/Amsterdam:20261224T180000
DTEND;TZID=Europe/Amsterdam:20261224T210000
DTSTAMP:20260420T015757
CREATED:20251021T170313Z
LAST-MODIFIED:20251021T170313Z
UID:2003-1798135200-1798146000@www.caeciliahulsberg.nl
SUMMARY:Rondgang Kerstgroep door Hulsberg
DESCRIPTION:
URL:https://www.caeciliahulsberg.nl/activiteit/rondgang-kerstgroep-door-hulsberg/
END:VEVENT
BEGIN:VEVENT
DTSTART;TZID=Europe/Amsterdam:20261226T110000
DTEND;TZID=Europe/Amsterdam:20261226T120000
DTSTAMP:20260420T015757
CREATED:20251021T165525Z
LAST-MODIFIED:20251113T183346Z
UID:1999-1798282800-1798286400@www.caeciliahulsberg.nl
SUMMARY:Opluisteren H-Mis door " Sumavanka"
DESCRIPTION:
URL:https://www.caeciliahulsberg.nl/activiteit/opluisteren-h-mis-door-ensemble-2/
END:VEVENT
END:VCALENDAR